BEGIN:VCALENDAR
VERSION:2.0
PRODID:-//Drupal iCal API//EN
X-WR-CALNAME:Termine RoyalRangers Ts
X-WR-TIMEZONE:Europe/Berlin
BEGIN:VTIMEZONE
TZID:Europe/Berlin
X-LIC-LOCATION:Europe/Berlin
BEGIN:DAYLIGHT
TZNAME:CEST
TZOFFSETFROM:+0100
TZOFFSETTO:+0200
DTSTART:20250330T010000
END:DAYLIGHT
BEGIN:DAYLIGHT
TZNAME:CEST
TZOFFSETFROM:+0100
TZOFFSETTO:+0200
DTSTART:20260329T010000
END:DAYLIGHT
BEGIN:STANDARD
TZNAME:CET
TZOFFSETFROM:+0200
TZOFFSETTO:+0100
DTSTART:20251026T010000
END:STANDARD
END:VTIMEZONE
BEGIN:VEVENT
UID:286
DTSTART;TZID=Europe/Berlin:20260228T150000
SEQUENCE:0
TRANSP:TRANSPARENT
DTEND;TZID=Europe/Berlin:20260228T150000
SUMMARY:Stammtreff [Treffpunkt Bornhof]
CLASS:PUBLIC
DESCRIPTION:Body \n\n[Logo Entdecker] [/Abzeichen_Entdecker]\n\n \n\nMIT D
 EM AUTO BRINGEN/ABHOLEN: Bornhof (Parkplatz\, untere Koordinate)\nAuf Wuns
 ch gerne auch zu Fuß oben auf dem Grundstück (obere\nKoordinate).\n\n[Wi
 r lieben das Abenteuer]\n 
DTSTAMP:20260422T090006Z
END:VEVENT
BEGIN:VEVENT
UID:287
DTSTART;TZID=Europe/Berlin:20260314T150000
SEQUENCE:0
TRANSP:TRANSPARENT
DTEND;TZID=Europe/Berlin:20260314T150000
SUMMARY:Stammtreff [Treffpunkt Bornhof]
CLASS:PUBLIC
DESCRIPTION:Body \n\n[Logo Entdecker] [/Abzeichen_Entdecker]\n\n \n\nMIT D
 EM AUTO BRINGEN/ABHOLEN: Bornhof (Parkplatz\, untere Koordinate)\nAuf Wuns
 ch gerne auch zu Fuß oben auf dem Grundstück (obere\nKoordinate).\n\n[Wi
 r lieben das Abenteuer]\n 
DTSTAMP:20260422T090006Z
END:VEVENT
BEGIN:VEVENT
UID:291
DTSTART;TZID=Europe/Berlin:20260328T150000
SEQUENCE:0
TRANSP:TRANSPARENT
DTEND;TZID=Europe/Berlin:20260328T150000
SUMMARY:Stammtreff [Treffpunkt Bornhof]
CLASS:PUBLIC
DESCRIPTION:Body \n\n[Logo Entdecker] [/Abzeichen_Entdecker]\n\n \n\nMIT D
 EM AUTO BRINGEN/ABHOLEN: Bornhof (Parkplatz\, untere Koordinate)\nAuf Wuns
 ch gerne auch zu Fuß oben auf dem Grundstück (obere\nKoordinate).\n\n[Wi
 r lieben das Abenteuer]\n 
DTSTAMP:20260422T090006Z
END:VEVENT
BEGIN:VEVENT
UID:288
DTSTART;TZID=Europe/Berlin:20260411T150000
SEQUENCE:0
TRANSP:TRANSPARENT
DTEND;TZID=Europe/Berlin:20260411T150000
SUMMARY:Stammtreff [Treffpunkt Bornhof]
CLASS:PUBLIC
DESCRIPTION:Body \n\n[Logo Entdecker] [/Abzeichen_Entdecker]\n\n \n\nMIT D
 EM AUTO BRINGEN/ABHOLEN: Bornhof (Parkplatz\, untere Koordinate)\nAuf Wuns
 ch gerne auch zu Fuß oben auf dem Grundstück (obere\nKoordinate).\n\n[Wi
 r lieben das Abenteuer]\n 
DTSTAMP:20260422T090006Z
END:VEVENT
BEGIN:VEVENT
UID:292
DTSTART;TZID=Europe/Berlin:20260425T150000
SEQUENCE:0
TRANSP:TRANSPARENT
DTEND;TZID=Europe/Berlin:20260425T150000
SUMMARY:Stammtreff [Treffpunkt Bornhof]
CLASS:PUBLIC
DESCRIPTION:Body \n\n[Logo Entdecker] [/Abzeichen_Entdecker]\n\n \n\nMIT D
 EM AUTO BRINGEN/ABHOLEN: Bornhof (Parkplatz\, untere Koordinate)\nAuf Wuns
 ch gerne auch zu Fuß oben auf dem Grundstück (obere\nKoordinate).\n\n[Wi
 r lieben das Abenteuer]\n 
DTSTAMP:20260422T090006Z
END:VEVENT
BEGIN:VEVENT
UID:289
DTSTART;TZID=Europe/Berlin:20260509T150000
SEQUENCE:0
TRANSP:TRANSPARENT
DTEND;TZID=Europe/Berlin:20260509T150000
SUMMARY:Stammtreff [Treffpunkt Bornhof]
CLASS:PUBLIC
DESCRIPTION:Body \n\n[Logo Entdecker] [/Abzeichen_Entdecker]\n\n \n\nMIT D
 EM AUTO BRINGEN/ABHOLEN: Bornhof (Parkplatz\, untere Koordinate)\nAuf Wuns
 ch gerne auch zu Fuß oben auf dem Grundstück (obere\nKoordinate).\n\n[Wi
 r lieben das Abenteuer]\n 
DTSTAMP:20260422T090006Z
END:VEVENT
BEGIN:VEVENT
UID:293
DTSTART;TZID=Europe/Berlin:20260523T150000
SEQUENCE:0
TRANSP:TRANSPARENT
DTEND;TZID=Europe/Berlin:20260523T150000
SUMMARY:Stammtreff [Treffpunkt Bornhof]
CLASS:PUBLIC
DESCRIPTION:Body \n\n[Logo Entdecker] [/Abzeichen_Entdecker]\n\n \n\nMIT D
 EM AUTO BRINGEN/ABHOLEN: Bornhof (Parkplatz\, untere Koordinate)\nAuf Wuns
 ch gerne auch zu Fuß oben auf dem Grundstück (obere\nKoordinate).\n\n[Wi
 r lieben das Abenteuer]\n 
DTSTAMP:20260422T090006Z
END:VEVENT
BEGIN:VEVENT
UID:290
DTSTART;TZID=Europe/Berlin:20260606T150000
SEQUENCE:0
TRANSP:TRANSPARENT
DTEND;TZID=Europe/Berlin:20260606T150000
SUMMARY:Stammtreff [Treffpunkt Bornhof]
CLASS:PUBLIC
DESCRIPTION:Body \n\n[Logo Entdecker] [/Abzeichen_Entdecker]\n\n \n\nMIT D
 EM AUTO BRINGEN/ABHOLEN: Bornhof (Parkplatz\, untere Koordinate)\nAuf Wuns
 ch gerne auch zu Fuß oben auf dem Grundstück (obere\nKoordinate).\n\n[Wi
 r lieben das Abenteuer]\n 
DTSTAMP:20260422T090006Z
END:VEVENT
BEGIN:VEVENT
UID:294
DTSTART;TZID=Europe/Berlin:20260620T150000
SEQUENCE:0
TRANSP:TRANSPARENT
DTEND;TZID=Europe/Berlin:20260620T150000
SUMMARY:Stammtreff [Treffpunkt Bornhof]
CLASS:PUBLIC
DESCRIPTION:Body \n\n[Logo Entdecker] [/Abzeichen_Entdecker]\n\n \n\nMIT D
 EM AUTO BRINGEN/ABHOLEN: Bornhof (Parkplatz\, untere Koordinate)\nAuf Wuns
 ch gerne auch zu Fuß oben auf dem Grundstück (obere\nKoordinate).\n\n[Wi
 r lieben das Abenteuer]\n 
DTSTAMP:20260422T090006Z
END:VEVENT
END:VCALENDAR